BEGIN:VCALENDAR
VERSION:2.0
PRODID:-//Psique Virtual - ECPv6.8.2.1//NONSGML v1.0//EN
CALSCALE:GREGORIAN
METHOD:PUBLISH
X-WR-CALNAME:Psique Virtual
X-ORIGINAL-URL:https://psiquevirtual.com
X-WR-CALDESC:Eventos para Psique Virtual
REFRESH-INTERVAL;VALUE=DURATION:PT1H
X-Robots-Tag:noindex
X-PUBLISHED-TTL:PT1H
BEGIN:VTIMEZONE
TZID:America/Bogota
BEGIN:STANDARD
TZOFFSETFROM:-0500
TZOFFSETTO:-0500
TZNAME:-05
DTSTART:20240101T000000
END:STANDARD
END:VTIMEZONE
BEGIN:VEVENT
DTSTART;TZID=America/Bogota:20241024T160000
DTEND;TZID=America/Bogota:20241024T170000
DTSTAMP:20260420T181027
CREATED:20240930T021613Z
LAST-MODIFIED:20240930T025211Z
UID:10000184-1729785600-1729789200@psiquevirtual.com
SUMMARY:Taller Pinceladas Diarias - Acuarela aplicada a objetos cotidianos.
DESCRIPTION:“La magia está en todas partes\, solo necesitas abrir los ojos para verla.”\n– Ozma de Oz \n¡No faltes! \nLo que aprenderás:\nEn este taller aprenderás las técnicas más famosas de la pintura acuarela aplicada a la creación de objetos cotidianos para gestionar la ansiedad. 18 años en adelante / adultos \nContenido del taller: \n\nConceptos básicos de la acuarela\, circulo cromático y mezclas.\nTécnicas para crear texturas.\nIdentificación de objetos y cómo replicarlos a modo de sketch book.\nImportancia de introducir la pintura a tu rutina diaria para la relajación.\n\n¿Qué incluye?\nIncluye materiales \nMateriales requeridos:\nSi quieres llevar tu propio kit de pintura puedes hacerlo: acuarelas\, pinceles\, rapidografo y paleta para mezclar. \nModalidad: \nGrupal/presencial \n*CUPOS LIMITADOS*
URL:https://psiquevirtual.com/taller/taller-pinceladas-diarias-acuarela-aplicada-a-objetos-cotidianos/2024-10-24/
CATEGORIES:Artes Plásticas,El Tallerista
ATTACH;FMTTYPE=image/webp:https://psiquevirtual.com/wp-content/uploads/2024/09/acuarela.webp
END:VEVENT
END:VCALENDAR